BEGIN:VCALENDAR
VERSION:2.0
PRODID:-//Carrabelle Chamber of Commerce - ECPv6.15.20//NONSGML v1.0//EN
CALSCALE:GREGORIAN
METHOD:PUBLISH
X-WR-CALNAME:Carrabelle Chamber of Commerce
X-ORIGINAL-URL:https://www.carrabelle.org
X-WR-CALDESC:Events for Carrabelle Chamber of Commerce
REFRESH-INTERVAL;VALUE=DURATION:PT1H
X-Robots-Tag:noindex
X-PUBLISHED-TTL:PT1H
BEGIN:VTIMEZONE
TZID:America/New_York
BEGIN:DAYLIGHT
TZOFFSETFROM:-0500
TZOFFSETTO:-0400
TZNAME:EDT
DTSTART:20250309T070000
END:DAYLIGHT
BEGIN:STANDARD
TZOFFSETFROM:-0400
TZOFFSETTO:-0500
TZNAME:EST
DTSTART:20251102T060000
END:STANDARD
BEGIN:DAYLIGHT
TZOFFSETFROM:-0500
TZOFFSETTO:-0400
TZNAME:EDT
DTSTART:20260308T070000
END:DAYLIGHT
BEGIN:STANDARD
TZOFFSETFROM:-0400
TZOFFSETTO:-0500
TZNAME:EST
DTSTART:20261101T060000
END:STANDARD
BEGIN:DAYLIGHT
TZOFFSETFROM:-0500
TZOFFSETTO:-0400
TZNAME:EDT
DTSTART:20270314T070000
END:DAYLIGHT
BEGIN:STANDARD
TZOFFSETFROM:-0400
TZOFFSETTO:-0500
TZNAME:EST
DTSTART:20271107T060000
END:STANDARD
END:VTIMEZONE
BEGIN:VEVENT
DTSTART;TZID=America/New_York:20260421T110000
DTEND;TZID=America/New_York:20260425T170000
DTSTAMP:20260425T102500
CREATED:20260405T181209Z
LAST-MODIFIED:20260405T181209Z
UID:10005184-1776769200-1777136400@www.carrabelle.org
SUMMARY:Special Exhibit: Remembering the Holocaust
DESCRIPTION:Camp Gordon Johnston WWII Museum in Carrabelle is presenting an exhibit to remember the Holocaust\, Hitler’s program to commit genocide against those he deemed unworthy\, especially Europe’s Jews.  This exhibit will open on Tuesday\, March 31 and be on display at the museum until Saturday\, May 2.  The museum is open every Tuesday through Saturday from 11 am to 5 pm. There is no charge for admission\, but donations are gladly accepted.     \nBeginning in 1933\, the German Government established prison\, labor\, concentration\, and extermination camps throughout their territories\, including in countries they occupied before and during the war. Groups that were arrested and detained included Roma\, Communists\, Jehovah’s Witnesses\, homosexuals\, the disabled and especially Jews. Some 12 million people perished in the more than 44\,000 facilities\, ghettos and killing fields across Europe\, including 6 million Jews. The Museum acknowledges the need for all citizens to understand this dark period of history\, what caused it\, who perpetrated it\, and how some resisted and fought their captors. Eyewitnesses such as survivors and the soldiers that liberated these camps are aging and dying\, but many have told their stories. Visitors are invited to come see this sobering exhibit and help our society remember those that were victims of atrocity\, prejudice\, and hate.  \nThe internationally recognized date for Holocaust Remembrance Day corresponds to the 27th day of Nisan on the Hebrew calendar and it marks the anniversary of the Warsaw Ghetto Uprising which started on April 19\, 1943. In Hebrew\, Holocaust Remembrance Day is called Yom Hashoah. In 2026\, Yom HaShoah will be recognized beginning at sunset on the evening of Monday\, April 13 – Tuesday\, April 14.   \nCamp Gordon Johnston WWII Museum is located in Carrabelle\, directly across from Carrabelle Public Beach Park at 1873 Hwy 98 West. For more information\, contact Camp Gordon Johnston Museum at (850) 697-8575 or museum@campgordonjohnston.com. Funded in part by the Franklin County Tourist Development Council.  \n \n 
URL:https://www.carrabelle.org/event/special-exhibit-remembering-the-holocaust-4/2026-04-21/
LOCATION:Camp Gordon Johnston WWII Museum\, 1873 Hwy 98 West\, Carrabelle\, FL\, 32322\, United States
ATTACH;FMTTYPE=image/jpeg:https://www.carrabelle.org/wp-content/uploads/2024/02/26543-scaled.jpg
ORGANIZER;CN="Camp Gordon Johnston WWII Museum":MAILTO:museum@campgordonjohnston.com
END:VEVENT
BEGIN:VEVENT
DTSTART;TZID=America/New_York:20260425T100000
DTEND;TZID=America/New_York:20260425T180000
DTSTAMP:20260425T102500
CREATED:20260225T003238Z
LAST-MODIFIED:20260331T190729Z
UID:10005171-1777111200-1777140000@www.carrabelle.org
SUMMARY:2026 Carrabelle Riverfront Festival
DESCRIPTION:Make plans to join the Carrabelle Chamber of Commerce on Saturday\, April 25 from 10 am – 6 pm for the 2026 Carrabelle Riverfront Festival\, a fun-filled day along the beautiful historic Carrabelle Florida waterfront! Enjoy family-friendly activities\, live music\, a car show\, unique entertainment\, colorful arts & craft vendors\, and delicious food vendors. There will be plenty of activities for the young and old along the beautiful historic harbor. This event is FREE\, pet friendly\, and open to the public. \nThe festival will feature plenty of fun for the whole family\, including children’s mini-train rides\, and a bouncy house. Plus\, a variety of vendors will be on hand with kid-friendly favorites adding to the festive atmosphere. \nFeet will be tapping to the upbeat favorites of some gifted musicians\, including the talented Danny Welch of Sumpin’ Old & Sumpin’ New who covers multiple genres\, with a little comedy thrown in and Steve’s Steel Drums playing Caribbean and Beach music. Guests will also be delighted by the wonderful dance performances of the Forgotten Coast Dancing Witches. The entertainment doesn’t end there as there will also be fun music by DJ Beanie Baby. \nVisitors can browse tons of festival vendors and booths with unique arts and craft items\, delicious food\, yummy treats and interesting products. Food vendors will be offering shrimp\, conch fritters\, BBQ\, kettle corn\, funnel cakes\, shaved ice\, cotton candy\, pork skins\, and more. Plus\, there will be regional\, family-friendly exhibitors with engaging displays and Tate’s Hell State Forest’s Smokey Bear on Avenue B. Visitors can explore the local shops\, museums\, and cafes for even more choices.   \nCurfew Masonic Lodge #73 will be hosting a Car Show\, with classic\, vintage\, and custom vehicles from 11 am – 4 pm ET at George Sands Park. Car collectors and enthusiasts will showcase their prized automobiles\, offering guests the opportunity to admire a variety of cars\, trucks\, and more at and more at the corner of SE 3rd St and US Hwy-98.. \nThe Airing of the Quilts\, hosted by the Lanark Village Wandering Star Quilters\, returns to Sands Park from 9:30 am-3 pm ET\, transforming the park into an outdoor quilt gallery. This free event will celebrate America’s 250th Birthday with an impressive display of patriotic quilts\, other beautiful quilts made by this talented guild and vintage quilts displayed along the fence and throughout the park. \nThe Carrabelle Riverfront Festival is hosted by the Carrabelle Chamber of Commerce and funded in part by the Franklin County Tourist Development Council and through donations from our sponsors. Sponsored by Centennial Bank\, Duke Energy\, Air-Con of Wakulla\, Emerald Coast Federal Credit Union\, Angler’s Edge Marine\, and C-Quarters Marina.   \nSPONSORS We are still looking for event sponsors. Sponsorship levels range from $100 to $1000 dollars. Sponsors receiving promotional perks and more. If you are interested in being a sponsor\, check out more information here 2026 Sponsorship Package  or contact the Carrabelle Chamber of Commerce at (850) 697-2585. \nVENDORS: For information about being a vendor\, check out the 2026 VENDOR REGISTRATION (PDF). \nVOLUNTEERS: We are in need of volunteers to help make the Riverfront Festival possible. We need volunteers to help with set-up Friday afternoon and Saturday morning. Volunteers are also needed on Saturday during the day to man the Chamber tent\, help with trash pick up\, monitor the bouncy house and other duties.  Volunteers will work in 2 hour increments. Volunteers are what make this happen every year. You are needed and you are always appreciated! Please contact the Chamber office to sign up as a volunteer today! Chamber@nettally.com or 850-697-2585. \nFor up-to-date information\, including a schedule of activities as it becomes available\, visit Facebook at @carrabelleriverfrontfestival or call the Carrabelle Chamber of Commerce at 850-697-2585. \nLooking for a place to stay for the festival? Check out our Places to Stay!    Looking for ideas on places to eat while you are in town? Check out our fabulous Restaurants and Cafes!  Wanting to do a little more shopping while you are here for the weekend? Check out our Stores and Shops!
URL:https://www.carrabelle.org/event/2026-carrabelle-riverfront-festival/
LOCATION:Carrabelle Riverfront\, Marine Street\, Carrabelle\, FL\, 32322\, United States
ATTACH;FMTTYPE=image/png:https://www.carrabelle.org/wp-content/uploads/2022/08/image001.png
ORGANIZER;CN="Carrabelle Chamber of Commerce":MAILTO:chamber@nettally.com
END:VEVENT
END:VCALENDAR