BEGIN:VCALENDAR
VERSION:2.0
PRODID:-//Carrabelle Chamber of Commerce - ECPv6.15.20//NONSGML v1.0//EN
CALSCALE:GREGORIAN
METHOD:PUBLISH
X-WR-CALNAME:Carrabelle Chamber of Commerce
X-ORIGINAL-URL:https://www.carrabelle.org
X-WR-CALDESC:Events for Carrabelle Chamber of Commerce
REFRESH-INTERVAL;VALUE=DURATION:PT1H
X-Robots-Tag:noindex
X-PUBLISHED-TTL:PT1H
BEGIN:VTIMEZONE
TZID:America/New_York
BEGIN:DAYLIGHT
TZOFFSETFROM:-0500
TZOFFSETTO:-0400
TZNAME:EDT
DTSTART:20250309T070000
END:DAYLIGHT
BEGIN:STANDARD
TZOFFSETFROM:-0400
TZOFFSETTO:-0500
TZNAME:EST
DTSTART:20251102T060000
END:STANDARD
BEGIN:DAYLIGHT
TZOFFSETFROM:-0500
TZOFFSETTO:-0400
TZNAME:EDT
DTSTART:20260308T070000
END:DAYLIGHT
BEGIN:STANDARD
TZOFFSETFROM:-0400
TZOFFSETTO:-0500
TZNAME:EST
DTSTART:20261101T060000
END:STANDARD
BEGIN:DAYLIGHT
TZOFFSETFROM:-0500
TZOFFSETTO:-0400
TZNAME:EDT
DTSTART:20270314T070000
END:DAYLIGHT
BEGIN:STANDARD
TZOFFSETFROM:-0400
TZOFFSETTO:-0500
TZNAME:EST
DTSTART:20271107T060000
END:STANDARD
END:VTIMEZONE
BEGIN:VEVENT
DTSTART;TZID=America/New_York:20260113T110000
DTEND;TZID=America/New_York:20260113T120000
DTSTAMP:20260420T053130
CREATED:20260101T220133Z
LAST-MODIFIED:20260101T220336Z
UID:10005138-1768302000-1768305600@www.carrabelle.org
SUMMARY:Free Tech Help Sessions at the Carrabelle Library 
DESCRIPTION:The Friends of the Franklin County Public Libraries (FFCPL) are pleased to announce that a popular series of free educational Tech Help sessions will continue this January at the Carrabelle Branch Library. These sessions are part of the Program Series\, offering something for everyone – young children\, students\, and lifelong learners. These events are open to the public—no library card is required—and offer a welcoming\, inclusive space for individuals of all ages to learn\, explore\, and connect through technology.  \nThe Tech Help sessions will be held Tuesdays this month – January 6\, 13\, 20\, and 27 – at 11:00 am ET at the Carrabelle Branch Library\, located at 311 St. James Ave. SE (Highway 98)\, Carrabelle\, FL. These relaxed\, judgment-free sessions provide one-on-one technology assistance for guests who need help with devices\, email\, digital resources\, and basic tech skills. No registration is necessary—drop-ins are welcome! \nThe Friends of the Franklin County Public Libraries\, a 501(c)(3) organization\, offers the Program Series to ensure that the libraries in Eastpoint and Carrabelle continue to provide informational\, educational and cultural materials for the benefit of persons of all ages in the community. For details or to join the Friends\, please visit https://friendsfcpl.com or contact the Carrabelle Branch at 850-275-9895. Funded in part by the Franklin County Tourist Development Council. 
URL:https://www.carrabelle.org/event/free-tech-help-sessions-at-the-carrabelle-library-3-2/2026-01-13/
LOCATION:Carrabelle Branch Library\, 311 St James Ave\, Carrabelle\, FL\, 32322\, United States
ATTACH;FMTTYPE=image/png:https://www.carrabelle.org/wp-content/uploads/2025/12/stock-phone-tech-laptop-cell.png
ORGANIZER;CN="Friends of the Franklin County Public Libraries":MAILTO:ffcplflorida@gmail.com
END:VEVENT
BEGIN:VEVENT
DTSTART;TZID=America/New_York:20260113T110000
DTEND;TZID=America/New_York:20260117T170000
DTSTAMP:20260420T053130
CREATED:20260101T215843Z
LAST-MODIFIED:20260101T215843Z
UID:10005135-1768302000-1768669200@www.carrabelle.org
SUMMARY:Special Exhibit: Operation Husky\, the Invasion of Sicily
DESCRIPTION:Camp Gordon Johnston WWII Museum in Carrabelle is presenting a special exhibit about Operation Husky\, the invasion of Sicily.  This exhibit will be on display from Tuesday\, January 6\, 2026 until Saturday\, January 31\, 2026.  The museum is open every Tuesday through Saturday from 11 am to 5 pm. There is no charge for admission\, but donations are gladly accepted.    \nOperation Husky was the Allied invasion of Sicily in 1943\, devised in North Africa as the Allies drove German and Italian forces from the continent and prepared to advance into Italy. The campaign relied on a series of top-secret deceptions—fake units\, fabricated communications\, and the famed British Intelligence ploy known as Operation Mincemeat\, which persuaded Germany that Sicily was not the next target. It set in motion one of the largest combined operations of World War II\, involving nearly half a million Allied personnel. \nHighlights of this exhibit include a set of top-secret plans for the JOSS segment (3rd Infantry Division) amphibious landings near Licata\, Sicily\, along with details for CENT (Forty-fifth Division near Scoglitti\, Sicily) and DIME (1st  Division near Gela\, Sicily)\, the other two American landing forces. This copy of the top-secret plans was printed just 20 days before the start of Operation Husky\, which involved amphibious landing of infantry and armor as well as parachute operations by the 82nd Airborne. It is also a secret as to why the museum holds this set of plans.  \nCamp Gordon Johnston WWII Museum is located in Carrabelle\, directly across from Carrabelle Public Beach Park at 1873 Hwy 98 West. For more information\, contact the museum at (850) 697-8575\,  museum@campgordonjohnston.com and http://www.campgordonjohnston.com.  Funded in part by the Franklin County Tourist Development Council.
URL:https://www.carrabelle.org/event/special-exhibit-operation-husky-the-invasion-of-sicily-2/2026-01-13/
LOCATION:Camp Gordon Johnston WWII Museum\, 1873 Hwy 98 West\, Carrabelle\, FL\, 32322\, United States
ATTACH;FMTTYPE=image/jpeg:https://www.carrabelle.org/wp-content/uploads/2026/01/Husky-LC-USZ62-98980-b-jpg-scaled.jpg
ORGANIZER;CN="Camp Gordon Johnston WWII Museum":MAILTO:museum@campgordonjohnston.com
END:VEVENT
BEGIN:VEVENT
DTSTART;TZID=America/New_York:20260113T120000
DTEND;TZID=America/New_York:20260117T140000
DTSTAMP:20260420T053130
CREATED:20260101T221511Z
LAST-MODIFIED:20260101T222356Z
UID:10005142-1768305600-1768658400@www.carrabelle.org
SUMMARY:Book Club\, Kids STEM Workshop & Souper Celebration at Eastpoint Library
DESCRIPTION:The Friends of the Franklin County Public Libraries (FFCPL) announces a week filled with creativity\, connection\, and community at the Eastpoint and Carrabelle Branches of the Franklin County Public Libraries through their popular Program Series. Library programs are free and open to the public with no library card required.  \nNovels & Nibbles: Book Club will meet on Tuesday\, January 13 from 12–1:30 PM at the Eastpoint Branch to discuss the month’s selection\, Mademoiselle Chanel by C.W Gortner. Light refreshments will be served. \nCreation Station: Sewing Felt Winter Animals\, a program where children ages 7–12 can learn simple sewing while making a cozy critter to take home\, will be held on Wednesday\, January 14 at 4:00 PM at the Eastpoint Branch. \nThe Souper Celebration: Soup\, Bread & Book Sale will be held on Saturday\, January 17 from 10:00 AM – 2:00 PM  at the Eastpoint Branch. Visitors can enjoy live music and artisan displays while browsing locally made soups\, breads along with used books.  \n  \nPlus check out these programs at our Carrabelle location.  \nA Tech Help session is scheduled for Tuesday\, January 13 at 11 AM at the Carrabelle Branch. Patrons may receive one-on-one assistance with devices\, email\, digital resources\, and more. No registration is required; drop-ins are welcome. \nAdult Crafternoon: Make-Up Crafts will take place on Thursday\, January 15 at 2:30 PM at the Carrabelle Branch. This workshop gives guests the opportunity to participate in a craft they may have missed or to enjoy creating one of their favorite crafts again. With many leftover craft projects available\, guests are invited to join in and make a craft together in a relaxed\, welcoming setting and is open to adults of all skill levels.   \nAudubon Florida will present Coastal Birds of the Eastern Panhandle on Friday\, January 16 at 5:00 PM at the Carrabelle Branch as part of a free two-day workshop. On Saturday\, January 17 at 9:00 AM\, patrons can join a local biologist for a guided beach walk at McKissack Beach Parking Lot (end of Gulf Beach Dr.\, Carrabelle). All ages welcome\, no sign-up required\, and attendees may join one or both events. \nThese programs are supported by the Friends of the Franklin County Public Libraries\, a 501(c)(3) organization that supports the Eastpoint and Carrabelle branches. For more information or to join the Friends\, please visit friendsfcpl.com or contact the Carrabelle Branch at 311 St. James Ave SE (Hwy 98)\, 850-275-9895\, or the Eastpoint Branch at 160 Hickory Dip Rd\, 850-670-8151. Programs are funded in part by the Franklin County Tourist Development Council.
URL:https://www.carrabelle.org/event/book-club-creation-station-stem-workshop-souper-celebration/
LOCATION:Eastpoint Branch Library\, 160 Hickory Dip Rd\, Eastpoint\, FL\, United States
ATTACH;FMTTYPE=image/jpeg:https://www.carrabelle.org/wp-content/uploads/2024/10/Adult-and-girl-with-crafts-e1728331899794.jpg
ORGANIZER;CN="Friends of the Franklin County Public Libraries":MAILTO:ffcplflorida@gmail.com
END:VEVENT
END:VCALENDAR